BEGIN:VCALENDAR
VERSION:2.0
PRODID:-//Kootenay Gallery of Art - ECPv6.2.6//NONSGML v1.0//EN
CALSCALE:GREGORIAN
METHOD:PUBLISH
X-ORIGINAL-URL:https://www.kootenaygallery.com
X-WR-CALDESC:Events for Kootenay Gallery of Art
REFRESH-INTERVAL;VALUE=DURATION:PT1H
X-Robots-Tag:noindex
X-PUBLISHED-TTL:PT1H
BEGIN:VTIMEZONE
TZID:America/Vancouver
BEGIN:DAYLIGHT
TZOFFSETFROM:-0800
TZOFFSETTO:-0700
TZNAME:PDT
DTSTART:20190310T100000
END:DAYLIGHT
BEGIN:STANDARD
TZOFFSETFROM:-0700
TZOFFSETTO:-0800
TZNAME:PST
DTSTART:20191103T090000
END:STANDARD
END:VTIMEZONE
BEGIN:VEVENT
DTSTART;TZID=America/Vancouver:20190406T150000
DTEND;TZID=America/Vancouver:20190406T160000
DTSTAMP:20260419T142444
CREATED:20190321T204013Z
LAST-MODIFIED:20190321T204013Z
UID:6711-1554562800-1554566400@www.kootenaygallery.com
SUMMARY:Hildur Jonasson Artist Talk
DESCRIPTION:April 6 at 3:00 pm \nArtist Hildur Jonasson will talk about her residency aboard a tall ship in the International Territory of Svalbord in 2017. Jonasson will speak about the art she created subsequent to the excursion and the methods she used in the process. Join us for the talk and you will be eligible for a door prize of two tickets to see GLORY at the Capitol Theatre in Nelson.
URL:https://www.kootenaygallery.com/event/hildur-jonasson-artist-talk/
LOCATION:Kootenay Gallery of Art\, 120 Heritage Way\, Castlegar\, BC\, V1N 4M5\, Canada
END:VEVENT
END:VCALENDAR