BEGIN:VCALENDAR
VERSION:2.0
PRODID:-//Kootenay Gallery of Art - ECPv6.2.6//NONSGML v1.0//EN
CALSCALE:GREGORIAN
METHOD:PUBLISH
X-WR-CALNAME:Kootenay Gallery of Art
X-ORIGINAL-URL:https://www.kootenaygallery.com
X-WR-CALDESC:Events for Kootenay Gallery of Art
REFRESH-INTERVAL;VALUE=DURATION:PT1H
X-Robots-Tag:noindex
X-PUBLISHED-TTL:PT1H
BEGIN:VTIMEZONE
TZID:America/Vancouver
BEGIN:DAYLIGHT
TZOFFSETFROM:-0800
TZOFFSETTO:-0700
TZNAME:PDT
DTSTART:20210314T100000
END:DAYLIGHT
BEGIN:STANDARD
TZOFFSETFROM:-0700
TZOFFSETTO:-0800
TZNAME:PST
DTSTART:20211107T090000
END:STANDARD
END:VTIMEZONE
BEGIN:VEVENT
DTSTART;TZID=America/Vancouver:20211112T160000
DTEND;TZID=America/Vancouver:20211112T200000
DTSTAMP:20260421T121014
CREATED:20211015T193417Z
LAST-MODIFIED:20211015T193430Z
UID:8253-1636732800-1636747200@www.kootenaygallery.com
SUMMARY:Christmas at the Gallery Opening
DESCRIPTION:Join us to browse beautiful gift items and enjoy delicious treats between 4 pm and 8 pm at the Kootenay Gallery on November 12 as we celebrate the opening of Christmas at the Gallery. \nStop by the Doukhobor Discovery Centre to visit the Spinners and Weavers’ Guild Studio at the same time. \nMasks are required.
URL:https://www.kootenaygallery.com/event/christmas-at-the-gallery-opening/
LOCATION:Kootenay Gallery of Art\, 120 Heritage Way\, Castlegar\, BC\, V1N 4M5\, Canada
ATTACH;FMTTYPE=image/jpeg:https://www.kootenaygallery.com/wp-content/uploads/2021/10/lydia-matzal-9LfcAIYcl9o-unsplash-scaled.jpg
END:VEVENT
END:VCALENDAR